BEGIN:VCALENDAR
VERSION:2.0
PRODID:-//Regional Medical Center - ECPv6.14.2//NONSGML v1.0//EN
CALSCALE:GREGORIAN
METHOD:PUBLISH
X-ORIGINAL-URL:https://rmccares.org
X-WR-CALDESC:Events for Regional Medical Center
REFRESH-INTERVAL;VALUE=DURATION:PT1H
X-Robots-Tag:noindex
X-PUBLISHED-TTL:PT1H
BEGIN:VTIMEZONE
TZID:America/Chicago
BEGIN:DAYLIGHT
TZOFFSETFROM:-0600
TZOFFSETTO:-0500
TZNAME:CDT
DTSTART:20260308T080000
END:DAYLIGHT
BEGIN:STANDARD
TZOFFSETFROM:-0500
TZOFFSETTO:-0600
TZNAME:CST
DTSTART:20261101T070000
END:STANDARD
END:VTIMEZONE
BEGIN:VEVENT
DTSTART;TZID=America/Chicago:20260121T080000
DTEND;TZID=America/Chicago:20260306T170000
DTSTAMP:20260421T191203
CREATED:20260121T140257Z
LAST-MODIFIED:20260121T140257Z
UID:18838-1768982400-1772816400@rmccares.org
SUMMARY:Martha Vandervoort Scholarship
DESCRIPTION:The Martha Vandervoort Memorial Scholarship was established in 2016 to invest in students who have made an impact in their community through leadership and community service. The purpose of this scholarship is to recognize future healthcare workers who reflect the legacy of Martha’s servant heart and benevolent character. The scholarship is valued at $3\,000 per year and is renewable for four years for a total value of $12\,000 towards the four-year college or university of the recipients’ choosing. \nRecipients of the scholarship are chosen through an application and interview process with a selection committee. To be eligible for the scholarship\, students must have a minimum 3.0 GPA\, going into a healthcare-related program of study and reflect the embodiment of community service and charity. \nMartha Vandervoort Scholarship  \n\nDeadline to apply: March 6\, 2026\nSummary: This $12\,000 scholarship is available to students who:\n\nAre pursuing a healthcare-related major\nHave a minimum 3.0 GPA\nDemonstrate leadership in their community\nGraduate from a Calhoun County high school\nWe encourage all eligible students to apply
URL:https://rmccares.org/event/martha-vandervoort-scholarship/
END:VEVENT
END:VCALENDAR