BEGIN:VCALENDAR
VERSION:2.0
PRODID:-//Regional Medical Center - ECPv6.14.2//NONSGML v1.0//EN
CALSCALE:GREGORIAN
METHOD:PUBLISH
X-WR-CALNAME:Regional Medical Center
X-ORIGINAL-URL:https://rmccares.org
X-WR-CALDESC:Events for Regional Medical Center
REFRESH-INTERVAL;VALUE=DURATION:PT1H
X-Robots-Tag:noindex
X-PUBLISHED-TTL:PT1H
BEGIN:VTIMEZONE
TZID:America/Chicago
BEGIN:DAYLIGHT
TZOFFSETFROM:-0600
TZOFFSETTO:-0500
TZNAME:CDT
DTSTART:20240310T080000
END:DAYLIGHT
BEGIN:STANDARD
TZOFFSETFROM:-0500
TZOFFSETTO:-0600
TZNAME:CST
DTSTART:20241103T070000
END:STANDARD
BEGIN:DAYLIGHT
TZOFFSETFROM:-0600
TZOFFSETTO:-0500
TZNAME:CDT
DTSTART:20250309T080000
END:DAYLIGHT
BEGIN:STANDARD
TZOFFSETFROM:-0500
TZOFFSETTO:-0600
TZNAME:CST
DTSTART:20251102T070000
END:STANDARD
BEGIN:DAYLIGHT
TZOFFSETFROM:-0600
TZOFFSETTO:-0500
TZNAME:CDT
DTSTART:20260308T080000
END:DAYLIGHT
BEGIN:STANDARD
TZOFFSETFROM:-0500
TZOFFSETTO:-0600
TZNAME:CST
DTSTART:20261101T070000
END:STANDARD
END:VTIMEZONE
BEGIN:VEVENT
DTSTART;TZID=America/Chicago:20260227T073000
DTEND;TZID=America/Chicago:20260227T123000
DTSTAMP:20260421T194043
CREATED:20260121T140056Z
LAST-MODIFIED:20260121T140056Z
UID:18836-1772177400-1772195400@rmccares.org
SUMMARY:Heart Day
DESCRIPTION:Heart disease is the leading cause of death in the United States each year. At RMC\, we believe prevention is the best medicine. As part of RMC’s Early Detection Connection series of community health events\, men and women above age 50 are invited to receive a Heart Day screening every February at the RMC Tyler Center. \nThe screening includes: \n\nEKG\nLipid profile\nBlood pressure screening\nComplete metabolic profile\nC-Protein\nHeart Day T-Shirt\n\nTo Schedule Your Appointment\, Call 844-RMC-APPT (844-762-2778) Today!
URL:https://rmccares.org/event/heart-day/2026-02-27/
END:VEVENT
BEGIN:VEVENT
DTSTART;TZID=America/Chicago:20260226T073000
DTEND;TZID=America/Chicago:20260226T123000
DTSTAMP:20260421T194043
CREATED:20260121T140056Z
LAST-MODIFIED:20260121T140056Z
UID:18835-1772091000-1772109000@rmccares.org
SUMMARY:Heart Day
DESCRIPTION:Heart disease is the leading cause of death in the United States each year. At RMC\, we believe prevention is the best medicine. As part of RMC’s Early Detection Connection series of community health events\, men and women above age 50 are invited to receive a Heart Day screening every February at the RMC Tyler Center. \nThe screening includes: \n\nEKG\nLipid profile\nBlood pressure screening\nComplete metabolic profile\nC-Protein\nHeart Day T-Shirt\n\nTo Schedule Your Appointment\, Call 844-RMC-APPT (844-762-2778) Today!
URL:https://rmccares.org/event/heart-day/2026-02-26/
END:VEVENT
BEGIN:VEVENT
DTSTART;TZID=America/Chicago:20260204T140000
DTEND;TZID=America/Chicago:20260204T163000
DTSTAMP:20260421T194043
CREATED:20230106T160248Z
LAST-MODIFIED:20230106T160248Z
UID:18653-1770213600-1770222600@rmccares.org
SUMMARY:Diabetes Education
DESCRIPTION:Do you or someone you love have diabetes? It’s always better learning management skills together\, so join us on every other first Wednesday of the month. at 2:00 PM in the Tyler Center Classroom\, 1st Floor. \n\n\n \n\n\nFor more information\, please contact Lesa Morris\, our education instructor\, at 256-235-5069.
URL:https://rmccares.org/event/diabetes-education-2-2024-12-04/2026-02-04/
END:VEVENT
BEGIN:VEVENT
DTSTART;TZID=America/Chicago:20251203T140000
DTEND;TZID=America/Chicago:20251203T163000
DTSTAMP:20260421T194043
CREATED:20230106T160248Z
LAST-MODIFIED:20251014T125511Z
UID:18536-1764770400-1764779400@rmccares.org
SUMMARY:Diabetes Education
DESCRIPTION:Do you or someone you love have diabetes? It’s always better learning management skills together\, so join us on every other first Wednesday of the month. at 2:00 PM in the Tyler Center Classroom\, 1st Floor. \n\n\n \n\n\nFor more information\, please contact Lesa Morris\, our education instructor\, at 256-235-5069.
URL:https://rmccares.org/event/diabetes-education-2-2024-12-04/2025-12-03/
END:VEVENT
BEGIN:VEVENT
DTSTART;TZID=America/Chicago:20251022T160000
DTEND;TZID=America/Chicago:20251022T170000
DTSTAMP:20260421T194043
CREATED:20250930T160007Z
LAST-MODIFIED:20250930T161555Z
UID:18609-1761148800-1761152400@rmccares.org
SUMMARY:Camp WheezeAway Fun Run/Walk
DESCRIPTION:Camp WheezeAway\, or “The Patsy Ruff memorial Asthma Camp for Kids”\, is an annual summer asthma camp at YMCA Camp Chandler in Wetumpka\, AL for children ages 8-12. \nThe next camp will be hosted May 24th – May 30th\, 2026. Your donation of $10 for participating in the fun run/walk would keep the camp free\, as no children pay to attend Camp WheezeAway! \nRespiratory Care is hosting the “Little Lungs\, Big Impact” fun run / walk at the RMC Community Park (Behind Outpatient Parking) Wednesday\, October 22nd at 4pm.
URL:https://rmccares.org/event/little-lungs-big-impact-camp-wheezeaway-fun-run-walk/
END:VEVENT
BEGIN:VEVENT
DTSTART;TZID=America/Chicago:20251019T080000
DTEND;TZID=America/Chicago:20251025T170000
DTSTAMP:20260421T194043
CREATED:20250930T153022Z
LAST-MODIFIED:20250930T161542Z
UID:18605-1760860800-1761411600@rmccares.org
SUMMARY:Respiratory Care Week Food Truck Parade
DESCRIPTION:October 19th:\n\nRoyal Slush 11am-2pm\nLets B Sweet 11am-6pm\nTaco Tuesday 11am-6pm\nSugar Beez 3pm-6pm\nThe Lemonade Bar 6pm-11pm\nRightnowCafe 7pm-11pm\n\nOctober 20th:\n\nRnb Finz & Chicks 11am-2pm\nLets B Sweet 11am-6pm\nTaco Tuesday 11am-6pm\nGet Fried 3pm-6pm\nRightnowCafe 7pm-11pm\n\nOctober 21st:\n\nLets B Sweet 3pm-6pm\nTaco Tuesday 11am-6pm\nQwik Chick 11am-2pm\nBrix & Stix Pizza 11am-2pm\nRightnowCafe 7pm-11pm\n\nOctober 22nd:\n\nLets B Sweet 11am-6pm\nTaco Tuesday 11am-6pm\nQwik Chick 3pm-6pm\nBrix & Stix Pizza 6pm-11pm\nThumbsuckers 9pm-11pm\n\nOctober 23rd:\n\nLets B Sweet 6pm-11pm\nTaco Tuesday 11am-6pm\nQwik Chick 3pm-6pm\nGet Fried 3pm-6pm\n\nOctober 24th:\n\nLets B Sweet 12pm-5pm\nTaco Tuesday 11am-6pm\nGet Fried 11pm-6pm\nThe Lemonade Bar 6pm-11pm\n\nOctober 25th:\n\nRoyal Slush 11am-2pm\nC&Js Seafood 11am-2pm\nTaco Tuesday 11am-6pm\nLets B Sweet 7pm-11pm\nThe Lemonade Bar 6pm-11pm\n\n 
URL:https://rmccares.org/event/respiratory-care-week-food-truck-parade/
END:VEVENT
BEGIN:VEVENT
DTSTART;TZID=America/Chicago:20251007T180000
DTEND;TZID=America/Chicago:20251007T200000
DTSTAMP:20260421T194043
CREATED:20250930T131252Z
LAST-MODIFIED:20250930T131350Z
UID:18600-1759860000-1759867200@rmccares.org
SUMMARY:RMC Foundation Pink Petal Party
DESCRIPTION:
URL:https://rmccares.org/event/rmc-foundation-pink-petal-party/
END:VEVENT
BEGIN:VEVENT
DTSTART;TZID=America/Chicago:20251001T140000
DTEND;TZID=America/Chicago:20251001T163000
DTSTAMP:20260421T194043
CREATED:20230106T160248Z
LAST-MODIFIED:20251014T125510Z
UID:16480-1759327200-1759336200@rmccares.org
SUMMARY:Diabetes Education
DESCRIPTION:Do you or someone you love have diabetes? It’s always better learning management skills together\, so join us on every other first Wednesday of the month. at 2:00 PM in the Tyler Center Classroom\, 1st Floor. \n\n\n \n\n\nFor more information\, please contact Lesa Morris\, our education instructor\, at 256-235-5069.
URL:https://rmccares.org/event/diabetes-education-2-2024-12-04/2025-10-01/
END:VEVENT
BEGIN:VEVENT
DTSTART;TZID=America/Chicago:20241002T140000
DTEND;TZID=America/Chicago:20241002T163000
DTSTAMP:20260421T194043
CREATED:20230106T160248Z
LAST-MODIFIED:20250925T124635Z
UID:16479-1727877600-1727886600@rmccares.org
SUMMARY:Diabetes Education
DESCRIPTION:Do you or someone you love have diabetes? It’s always better learning management skills together\, so join us on every other first Wednesday of the month. at 2:00 PM in the Tyler Center Classroom\, 1st Floor. \n\n\n \n\n\nFor more information\, please contact Lesa Morris\, our education instructor\, at 256-235-5069.
URL:https://rmccares.org/event/diabetes-education-2/2024-10-02/
END:VEVENT
BEGIN:VEVENT
DTSTART;TZID=America/Chicago:20240807T140000
DTEND;TZID=America/Chicago:20240807T163000
DTSTAMP:20260421T194043
CREATED:20230106T160248Z
LAST-MODIFIED:20250925T124635Z
UID:16478-1723039200-1723048200@rmccares.org
SUMMARY:Diabetes Education
DESCRIPTION:Do you or someone you love have diabetes? It’s always better learning management skills together\, so join us on every other first Wednesday of the month. at 2:00 PM in the Tyler Center Classroom\, 1st Floor. \n\n\n \n\n\nFor more information\, please contact Lesa Morris\, our education instructor\, at 256-235-5069.
URL:https://rmccares.org/event/diabetes-education-2/2024-08-07/
END:VEVENT
BEGIN:VEVENT
DTSTART;TZID=America/Chicago:20240605T140000
DTEND;TZID=America/Chicago:20240605T163000
DTSTAMP:20260421T194043
CREATED:20230106T160248Z
LAST-MODIFIED:20250925T124635Z
UID:16477-1717596000-1717605000@rmccares.org
SUMMARY:Diabetes Education
DESCRIPTION:Do you or someone you love have diabetes? It’s always better learning management skills together\, so join us on every other first Wednesday of the month. at 2:00 PM in the Tyler Center Classroom\, 1st Floor. \n\n\n \n\n\nFor more information\, please contact Lesa Morris\, our education instructor\, at 256-235-5069.
URL:https://rmccares.org/event/diabetes-education-2/2024-06-05/
END:VEVENT
END:VCALENDAR