BEGIN:VCALENDAR
VERSION:2.0
PRODID:-//Regional Medical Center - ECPv6.14.2//NONSGML v1.0//EN
CALSCALE:GREGORIAN
METHOD:PUBLISH
X-WR-CALNAME:Regional Medical Center
X-ORIGINAL-URL:https://rmccares.org
X-WR-CALDESC:Events for Regional Medical Center
REFRESH-INTERVAL;VALUE=DURATION:PT1H
X-Robots-Tag:noindex
X-PUBLISHED-TTL:PT1H
BEGIN:VTIMEZONE
TZID:America/Chicago
BEGIN:DAYLIGHT
TZOFFSETFROM:-0600
TZOFFSETTO:-0500
TZNAME:CDT
DTSTART:20260308T080000
END:DAYLIGHT
BEGIN:STANDARD
TZOFFSETFROM:-0500
TZOFFSETTO:-0600
TZNAME:CST
DTSTART:20261101T070000
END:STANDARD
END:VTIMEZONE
BEGIN:VEVENT
DTSTART;TZID=America/Chicago:20260603T140000
DTEND;TZID=America/Chicago:20260603T163000
DTSTAMP:20260420T040931
CREATED:20230106T160248Z
LAST-MODIFIED:20230106T160248Z
UID:18655-1780495200-1780504200@rmccares.org
SUMMARY:Diabetes Education
DESCRIPTION:Do you or someone you love have diabetes? It’s always better learning management skills together\, so join us on every other first Wednesday of the month. at 2:00 PM in the Tyler Center Classroom\, 1st Floor. \n\n\n \n\n\nFor more information\, please contact Lesa Morris\, our education instructor\, at 256-235-5069.
URL:https://rmccares.org/event/diabetes-education-2-2024-12-04/2026-06-03/
END:VEVENT
BEGIN:VEVENT
DTSTART;TZID=America/Chicago:20260805T140000
DTEND;TZID=America/Chicago:20260805T163000
DTSTAMP:20260420T040931
CREATED:20230106T160248Z
LAST-MODIFIED:20230106T160248Z
UID:18656-1785938400-1785947400@rmccares.org
SUMMARY:Diabetes Education
DESCRIPTION:Do you or someone you love have diabetes? It’s always better learning management skills together\, so join us on every other first Wednesday of the month. at 2:00 PM in the Tyler Center Classroom\, 1st Floor. \n\n\n \n\n\nFor more information\, please contact Lesa Morris\, our education instructor\, at 256-235-5069.
URL:https://rmccares.org/event/diabetes-education-2-2024-12-04/2026-08-05/
END:VEVENT
BEGIN:VEVENT
DTSTART;TZID=America/Chicago:20261007T080000
DTEND;TZID=America/Chicago:20261007T170000
DTSTAMP:20260420T040931
CREATED:20260121T140503Z
LAST-MODIFIED:20260121T140503Z
UID:18842-1791360000-1791392400@rmccares.org
SUMMARY:RMC Foundation's 30th Annual Golf Classic
DESCRIPTION:We are looking forward to seeing everyone for another wonderful event! \nRegistration & further details to come!
URL:https://rmccares.org/event/rmc-foundations-30th-annual-golf-classic/
END:VEVENT
BEGIN:VEVENT
DTSTART;TZID=America/Chicago:20261007T140000
DTEND;TZID=America/Chicago:20261007T163000
DTSTAMP:20260420T040931
CREATED:20230106T160248Z
LAST-MODIFIED:20230106T160248Z
UID:18657-1791381600-1791390600@rmccares.org
SUMMARY:Diabetes Education
DESCRIPTION:Do you or someone you love have diabetes? It’s always better learning management skills together\, so join us on every other first Wednesday of the month. at 2:00 PM in the Tyler Center Classroom\, 1st Floor. \n\n\n \n\n\nFor more information\, please contact Lesa Morris\, our education instructor\, at 256-235-5069.
URL:https://rmccares.org/event/diabetes-education-2-2024-12-04/2026-10-07/
END:VEVENT
BEGIN:VEVENT
DTSTART;TZID=America/Chicago:20261202T140000
DTEND;TZID=America/Chicago:20261202T163000
DTSTAMP:20260420T040931
CREATED:20230106T160248Z
LAST-MODIFIED:20230106T160248Z
UID:18658-1796220000-1796229000@rmccares.org
SUMMARY:Diabetes Education
DESCRIPTION:Do you or someone you love have diabetes? It’s always better learning management skills together\, so join us on every other first Wednesday of the month. at 2:00 PM in the Tyler Center Classroom\, 1st Floor. \n\n\n \n\n\nFor more information\, please contact Lesa Morris\, our education instructor\, at 256-235-5069.
URL:https://rmccares.org/event/diabetes-education-2-2024-12-04/2026-12-02/
END:VEVENT
END:VCALENDAR